BEGIN:VCALENDAR
VERSION:2.0
PRODID:-//ChamberMaster//Event Calendar 2.0//EN
METHOD:PUBLISH
X-PUBLISHED-TTL:P3D
REFRESH-INTERVAL:P3D
CALSCALE:GREGORIAN
BEGIN:VEVENT
DTSTART:20260422T213000Z
DTEND:20260422T230000Z
X-MICROSOFT-CDO-ALLDAYEVENT:FALSE
SUMMARY:Workshop for Beginners: Veggie Gardening Basics
DESCRIPTION:Starting a veggie garden for the very first time? Join us in this workshop to learn the basics to set you up for success. Together\, we'll explore:\n\n\n	how to pick a location for your vegetable garden\n	what to sow directly in your garden vs what to plant as a seedling\n	how to handle seedlings\n	how to read a seed packet and plant seeds\n	how and when to water your garden\n	when to harvest and when to remove a plant\n	and more!
X-ALT-DESC;FMTTYPE=text/html:<div>\n<div style="margin-left:-17px\; margin-right:-17px">\n<p>Starting a veggie garden for the very first time? Join us in this workshop to learn the basics to set you up for success. Together\, we&rsquo\;ll explore:</p>\n\n<ul>\n	<li>how to pick a location for your vegetable garden</li>\n	<li>what to sow directly in your garden vs what to plant as a seedling</li>\n	<li>how to handle seedlings</li>\n	<li>how to read a seed packet and plant seeds</li>\n	<li>how and when to water your garden</li>\n	<li>when to harvest and when to remove a plant</li>\n	<li>and more!</li>\n</ul>\n</div>\n</div>\n
LOCATION:Backyard Growers HQ 103R Maplewood Ave Gloucester\, MA 01930
UID:e.2981.46936
SEQUENCE:3
DTSTAMP:20260422T084209Z
URL:https://business.capeannvacations.com/events/details/workshop-for-beginners-veggie-gardening-basics-46936
END:VEVENT

END:VCALENDAR
