BEGIN:VCALENDAR
VERSION:2.0
PRODID:-//ChamberMaster//Event Calendar 2.0//EN
METHOD:PUBLISH
X-PUBLISHED-TTL:P3D
REFRESH-INTERVAL:P3D
CALSCALE:GREGORIAN
BEGIN:VEVENT
DTSTART:20250124T010000Z
DTEND:20250124T033000Z
X-MICROSOFT-CDO-ALLDAYEVENT:FALSE
SUMMARY:Yonder Mountain String Band
DESCRIPTION:It is a testament to the legacy of Yonder Mountain String Band that their original songs and unique interpretations of covers are regularly performed by next generation marquee bluegrass bands.\n\n\n\nYonder Mountain String Band\, a driving force in roots music for nearly three decades and a key player in the progressive jamgrass movement\, kicks off a new chapter with Nowhere Next. Featuring original songs inspired by lived experiences\, people\, and places that have shaped them\, the album is a mix of bluegrass\, indie rock\, and country with soulful\, funky grooves that call for a good time. Their 11th studio album follows the Grammy-nominated Get Yourself Outside (2022)\, adding depth and momentum to Yonder's rich musical legacy.
X-ALT-DESC;FMTTYPE=text/html:It is a testament to the legacy of Yonder Mountain String Band that their original songs and unique interpretations of covers are regularly performed by next generation marquee bluegrass bands.<br />\n<br />\nYonder Mountain String Band\, a driving force in roots music for nearly three decades and a key player in the progressive jamgrass movement\, kicks off a new chapter with Nowhere Next. Featuring original songs inspired by lived experiences\, people\, and places that have shaped them\, the album is a mix of bluegrass\, indie rock\, and country with soulful\, funky grooves that call for a good time. Their 11th studio album follows the Grammy-nominated Get Yourself Outside (2022)\, adding depth and momentum to Yonder&rsquo\;s rich musical legacy.
LOCATION:The Cabot 286 Cabot Street Beverly\, MA 01915
UID:e.2981.34796
SEQUENCE:3
DTSTAMP:20260424T233904Z
URL:https://business.capeannvacations.com/events/details/yonder-mountain-string-band-34796
END:VEVENT

END:VCALENDAR
